Workbook

Sheet お申込み方法
A1: ◎配布可能部数表からのお申込み方法
A3: お申込みの際は当ページ右隣のワークシート「お申込み書」のご入力をお願い致します。
A6: ①必要項目へのご入力
A8: ・お申込み時に必要な項目となりますのでご入力下さい。
A26: ②配布条件と配布場所のご選定とご入力
A28: ・配布を希望するエリアの「申込」欄に数字の「1」を入れると色が変わり、右側の「申込合計数」及び上部の「合計」に自動的に反映されます。
A29: ・複数のエリアに「1」を入れると「合計」の欄は自動的に全てのエリアが反映されたトータルの配布枚数となります。
A57: ③メールにて当社へ送付
A59: ・チラシ名に記載した名称をエクセルのファイル名にして当社までメールをお送り下さい。
A60: ※確認次第、当社よりご連絡させて頂きます。

Sheet お申込み書 
A1: チ ラ シ 名 | I1: 配 布 日
I2: サ イ ズ
I3: 配 布 枚 数
A4: ＜ 配布可能部数表 令和8年8月〜 11月 ＞ | D4: ※次回は令和8年12月更新 | I4: 枚 数 調 整 エ リ ア
A6: 申 込 | C6: ⇒配布ご希望のエリアに数字の１を入れて下さい | I6: 合 計 | M6: =O1862 -> 0
A7: 区 | B7: エリア | C7: 地区名 | D7: 戸建のみ | F7: 集合のみ | I7: 戸建＋集合 | K7: 事業所のみ | M7: 全戸配布 | O7: 申込 合計数 | P7: エリア
D8: 定数 | E8: 申込 | F8: 棟数 | G8: 定数 | H8: 申込 | I8: 定数 | J8: 申込 | K8: 定数 | L8: 申込 | M8: 定数 | N8: 申込
A9: 東 区 | B9: １Ａ０１ | C9: 北１０東２、北１１東１･２、北１２東１～３ | D9: 66 | F9: 32 | G9: 444 | I9: =SUM(D9,G9) -> 510 | K9: 53 | M9: =SUM(I9,K9) -> 563 | O9: =SUM((D9*E9),(G9*H9),(I9*J9),(K9*L9),(M9*N9)) -> 0 | P9: １Ａ０１
A10: 東 区 | B10: １Ａ０２ | C10: 北１３･１４東１～３ | D10: 62 | F10: 39 | G10: 584 | I10: =SUM(D10,G10) -> 646 | K10: 15 | M10: =SUM(I10,K10) -> 661 | O10: =SUM((D10*E10),(G10*H10),(I10*J10),(K10*L10),(M10*N10)) -> 0 | P10: １Ａ０２
A11: 東 区 | B11: １Ａ０３ | C11: 北6東6･7,北7東5~7,北8東4~5(19),北9東4~5(1) | D11: 35 | F11: 27 | G11: 666 | I11: =SUM(D11,G11) -> 701 | K11: 22 | M11: =SUM(I11,K11) -> 723 | O11: =SUM((D11*E11),(G11*H11),(I11*J11),(K11*L11),(M11*N11)) -> 0 | P11: １Ａ０３
A12: 東 区 | B12: １Ａ０４ | C12: 北１０･１１東３･４ | D12: 108 | F12: 44 | G12: 446 | I12: =SUM(D12,G12) -> 554 | K12: 37 | M12: =SUM(I12,K12) -> 591 | O12: =SUM((D12*E12),(G12*H12),(I12*J12),(K12*L12),(M12*N12)) -> 0 | P12: １Ａ０４
A13: 東 区 | B13: １Ａ０５ | C13: 北１２東４～６、北１３東４ | D13: 31 | F13: 17 | G13: 372 | I13: =SUM(D13,G13) -> 403 | K13: 19 | M13: =SUM(I13,K13) -> 422 | O13: =SUM((D13*E13),(G13*H13),(I13*J13),(K13*L13),(M13*N13)) -> 0 | P13: １Ａ０５
A14: 東 区 | B14: １Ａ０６ | C14: 北１３東５･６、北１４東４～６ | D14: 68 | F14: 36 | G14: 452 | I14: =SUM(D14,G14) -> 520 | K14: 30 | M14: =SUM(I14,K14) -> 550 | O14: =SUM((D14*E14),(G14*H14),(I14*J14),(K14*L14),(M14*N14)) -> 0 | P14: １Ａ０６
A15: 東 区 | B15: １Ａ０７ | C15: 北８東５(12･18)～７、北９東５(2)～７ | D15: 63 | F15: 18 | G15: 452 | I15: =SUM(D15,G15) -> 515 | K15: 35 | M15: =SUM(I15,K15) -> 550 | O15: =SUM((D15*E15),(G15*H15),(I15*J15),(K15*L15),(M15*N15)) -> 0 | P15: １Ａ０７
A16: 東 区 | B16: １Ａ０８ | C16: 北１０･１１東５･６ | D16: 53 | F16: 26 | G16: 480 | I16: =SUM(D16,G16) -> 533 | K16: 30 | M16: =SUM(I16,K16) -> 563 | O16: =SUM((D16*E16),(G16*H16),(I16*J16),(K16*L16),(M16*N16)) -> 0 | P16: １Ａ０８
A17: 東 区 | B17: １Ａ０９ | C17: 北９東８～１０、北１０東９ | D17: 126 | F17: 58 | G17: 526 | I17: =SUM(D17,G17) -> 652 | K17: 22 | M17: =SUM(I17,K17) -> 674 | O17: =SUM((D17*E17),(G17*H17),(I17*J17),(K17*L17),(M17*N17)) -> 0 | P17: １Ａ０９
A18: 東 区 | B18: １Ａ１０ | C18: 北１０東７･８、北１１東７ | D18: 0 | F18: 1 | G18: 276 | I18: =SUM(D18,G18) -> 276 | K18: 12 | M18: =SUM(I18,K18) -> 288 | O18: =SUM((D18*E18),(G18*H18),(I18*J18),(K18*L18),(M18*N18)) -> 0 | P18: １Ａ１０
A19: 東 区 | B19: １Ａ１１ | C19: 北１１東８～９(1) | D19: 0 | F19: 1 | G19: 336 | I19: =SUM(D19,G19) -> 336 | K19: 20 | M19: =SUM(I19,K19) -> 356 | O19: =SUM((D19*E19),(G19*H19),(I19*J19),(K19*L19),(M19*N19)) -> 0 | P19: １Ａ１１
A20: 東 区 | B20: １Ａ１２ | C20: 北１２東７･８ | D20: 0 | F20: 3 | G20: 356 | I20: =SUM(D20,G20) -> 356 | K20: 15 | M20: =SUM(I20,K20) -> 371 | O20: =SUM((D20*E20),(G20*H20),(I20*J20),(K20*L20),(M20*N20)) -> 0 | P20: １Ａ１２
... A483: 西 区 | B483: ３Ａ２３ | C483: 八軒７西７、８西３～８【休業】 | D483: 0 | F483: 0 | G483: 0 | I483: =SUM(D483,G483) -> 0 | K483: 0 | M483: =SUM(I483,K483) -> 0 | O483: =SUM((D483*E483),(G483*H483),(I483*J483),(K483*L483),(M483*N483)) -> 0 | P483: ３Ａ２３
A484: 西 区 | B484: ３Ａ２４ | C484: 八軒９西４～７、１０西４～６【休業】 | D484: 0 | F484: 0 | G484: 0 | I484: =SUM(D484,G484) -> 0 | K484: 0 | M484: =SUM(I484,K484) -> 0 | O484: 0 | P484: ３Ａ２４
A485: 西 区 | B485: ３Ａ２５ | C485: 八軒９西３、１０西１～３【休業】 | D485: 0 | F485: 0 | G485: 0 | I485: =SUM(D485,G485) -> 0 | K485: 0 | M485: =SUM(I485,K485) -> 0 | O485: 0 | P485: ３Ａ２５
A486: 西 区 | B486: ３Ａ２６ | C486: 八軒８･９西１･２ | D486: 235 | F486: 25 | G486: 185 | I486: =SUM(D486,G486) -> 420 | K486: 4 | M486: =SUM(I486,K486) -> 424 | O486: =SUM((D486*E486),(G486*H486),(I486*J486),(K486*L486),(M486*N486)) -> 0 | P486: ３Ａ２６
A487: 西 区 | B487: ３Ｂ０１ | C487: 琴似３･４－２ | D487: 70 | F487: 27 | G487: 330 | I487: =SUM(D487,G487) -> 400 | K487: 10 | M487: =SUM(I487,K487) -> 410 | O487: =SUM((D487*E487),(G487*H487),(I487*J487),(K487*L487),(M487*N487)) -> 0 | P487: ３Ｂ０１
A488: 西 区 | B488: ３Ｂ０２ | C488: 琴似３－３･４ | D488: 70 | F488: 38 | G488: 500 | I488: =SUM(D488,G488) -> 570 | K488: 10 | M488: =SUM(I488,K488) -> 580 | O488: =SUM((D488*E488),(G488*H488),(I488*J488),(K488*L488),(M488*N488)) -> 0 | P488: ３Ｂ０２
A489: 西 区 | B489: ３Ｂ０３ | C489: 琴似４－３～４(3除く) | D489: 85 | F489: 31 | G489: 200 | I489: =SUM(D489,G489) -> 285 | K489: 5 | M489: =SUM(I489,K489) -> 290 | O489: =SUM((D489*E489),(G489*H489),(I489*J489),(K489*L489),(M489*N489)) -> 0 | P489: ３Ｂ０３
A490: 西 区 | B490: ３Ｂ０４ | C490: 琴似３－５、４－４(3)～５(2一部～4) | D490: 55 | F490: 21 | G490: 270 | I490: =SUM(D490,G490) -> 325 | K490: 5 | M490: =SUM(I490,K490) -> 330 | O490: =SUM((D490*E490),(G490*H490),(I490*J490),(K490*L490),(M490*N490)) -> 0 | P490: ３Ｂ０４
A491: 西 区 | B491: ３Ｂ０５ | C491: 琴似３－６･７、４－５(1･2一部)～７ | D491: 125 | F491: 48 | G491: 530 | I491: =SUM(D491,G491) -> 655 | K491: 10 | M491: =SUM(I491,K491) -> 665 | O491: =SUM((D491*E491),(G491*H491),(I491*J491),(K491*L491),(M491*N491)) -> 0 | P491: ３Ｂ０５
A492: 西 区 | B492: ３Ｂ０６ | C492: 琴似２－１･２、３－１ | D492: 30 | F492: 16 | G492: 250 | I492: =SUM(D492,G492) -> 280 | K492: 5 | M492: =SUM(I492,K492) -> 285 | O492: =SUM((D492*E492),(G492*H492),(I492*J492),(K492*L492),(M492*N492)) -> 0 | P492: ３Ｂ０６
A493: 西 区 | B493: ３Ｂ０７ | C493: 琴似２－３～５ | D493: 30 | F493: 18 | G493: 330 | I493: =SUM(D493,G493) -> 360 | K493: 15 | M493: =SUM(I493,K493) -> 375 | O493: =SUM((D493*E493),(G493*H493),(I493*J493),(K493*L493),(M493*N493)) -> 0 | P493: ３Ｂ０７
A494: 西 区 | B494: ３Ｂ０８ | C494: 琴似２－６･７ | D494: 2 | F494: 15 | G494: 450 | I494: =SUM(D494,G494) -> 452 | K494: 5 | M494: =SUM(I494,K494) -> 457 | O494: =SUM((D494*E494),(G494*H494),(I494*J494),(K494*L494),(M494*N494)) -> 0 | P494: ３Ｂ０８
A495: 西 区 | B495: ３Ｂ０９ | C495: 琴似１－１･２ | D495: 10 | F495: 16 | G495: 570 | I495: =SUM(D495,G495) -> 580 | K495: 5 | M495: =SUM(I495,K495) -> 585 | O495: =SUM((D495*E495),(G495*H495),(I495*J495),(K495*L495),(M495*N495)) -> 0 | P495: ３Ｂ０９
A496: 西 区 | B496: ３Ｂ１０ | C496: 琴似１－３～５ | D496: 13 | F496: 23 | G496: 658 | I496: =SUM(D496,G496) -> 671 | K496: 16 | M496: =SUM(I496,K496) -> 687 | O496: =SUM((D496*E496),(G496*H496),(I496*J496),(K496*L496),(M496*N496)) -> 0 | P496: ３Ｂ１０
A497: 西 区 | B497: ３Ｂ１１ | C497: 琴似１－６･７ | D497: 22 | F497: 15 | G497: 370 | I497: =SUM(D497,G497) -> 392 | K497: 8 | M497: =SUM(I497,K497) -> 400 | O497: =SUM((D497*E497),(G497*H497),(I497*J497),(K497*L497),(M497*N497)) -> 0 | P497: ３Ｂ１１
... A1156: 豊 平 区 | B1156: ７Ｈ２２ | C1156: 福住１－９【休業】 | D1156: 0 | F1156: 0 | G1156: 0 | I1156: =SUM(D1156,G1156) -> 0 | K1156: 0 | M1156: =SUM(I1156,K1156) -> 0 | O1156: =SUM((D1156*E1156),(G1156*H1156),(I1156*J1156),(K1156*L1156),(M1156*N1156)) -> 0 | P1156: ７Ｈ２２
A1157: 豊 平 区 | B1157: ７Ｈ２３ | C1157: 福住３－９ | D1157: 45 | F1157: 0 | G1157: 0 | I1157: =SUM(D1157,G1157) -> 45 | K1157: 1 | M1157: =SUM(I1157,K1157) -> 46 | O1157: =SUM((D1157*E1157),(G1157*H1157),(I1157*J1157),(K1157*L1157),(M1157*N1157)) -> 0
A1158: 豊 平 区 | B1158: ７Ｈ２４ | C1158: 福住３－５･６【休業】 | D1158: 0 | F1158: 0 | G1158: 0 | I1158: =SUM(D1158,G1158) -> 0 | K1158: 0 | M1158: =SUM(I1158,K1158) -> 0 | O1158: =SUM((D1158*E1158),(G1158*H1158),(I1158*J1158),(K1158*L1158),(M1158*N1158)) -> 0 | P1158: ７Ｈ２３
A1159: 豊 平 区 | B1159: ７Ｉ０１ | C1159: 月寒東１－１ | D1159: 55 | F1159: 13 | G1159: 72 | I1159: =SUM(D1159,G1159) -> 127 | K1159: 5 | M1159: =SUM(I1159,K1159) -> 132 | O1159: =SUM((D1159*E1159),(G1159*H1159),(I1159*J1159),(K1159*L1159),(M1159*N1159)) -> 0 | P1159: ７Ｉ０１
A1160: 豊 平 区 | B1160: ７Ｉ０２ | C1160: 月寒中央通4(4)･5(2)･6(3)･7(6～8) | D1160: 3 | F1160: 9 | G1160: 278 | I1160: =SUM(D1160,G1160) -> 281 | K1160: 3 | M1160: =SUM(I1160,K1160) -> 284 | O1160: =SUM((D1160*E1160),(G1160*H1160),(I1160*J1160),(K1160*L1160),(M1160*N1160)) -> 0 | P1160: ７Ｉ０２
A1161: 豊 平 区 | B1161: ７Ｉ０３ | C1161: 月寒中央通８(3･4)･９(3) | D1161: 7 | F1161: 8 | G1161: 173 | I1161: =SUM(D1161,G1161) -> 180 | K1161: 17 | M1161: =SUM(I1161,K1161) -> 197 | O1161: =SUM((D1161*E1161),(G1161*H1161),(I1161*J1161),(K1161*L1161),(M1161*N1161)) -> 0 | P1161: ７Ｉ０３
A1162: 豊 平 区 | B1162: ７Ｉ０４ | C1162: 月寒東２－１ | D1162: 72 | F1162: 8 | G1162: 90 | I1162: =SUM(D1162,G1162) -> 162 | K1162: 9 | M1162: =SUM(I1162,K1162) -> 171 | O1162: =SUM((D1162*E1162),(G1162*H1162),(I1162*J1162),(K1162*L1162),(M1162*N1162)) -> 0 | P1162: ７Ｉ０４
A1163: 豊 平 区 | B1163: ７Ｉ０５ | C1163: 月寒東２－２ | D1163: 29 | F1163: 5 | G1163: 92 | I1163: =SUM(D1163,G1163) -> 121 | K1163: 1 | M1163: =SUM(I1163,K1163) -> 122 | O1163: =SUM((D1163*E1163),(G1163*H1163),(I1163*J1163),(K1163*L1163),(M1163*N1163)) -> 0 | P1163: ７Ｉ０５
A1164: 豊 平 区 | B1164: ７Ｉ０６ | C1164: 月寒東１－３～５、２－４ | D1164: 163 | F1164: 37 | G1164: 291 | I1164: =SUM(D1164,G1164) -> 454 | K1164: 8 | M1164: =SUM(I1164,K1164) -> 462 | O1164: =SUM((D1164*E1164),(G1164*H1164),(I1164*J1164),(K1164*L1164),(M1164*N1164)) -> 0 | P1164: ７Ｉ０６
A1165: 豊 平 区 | B1165: ７Ｉ０７ | C1165: 月寒東１－６・７ | D1165: 90 | F1165: 67 | G1165: 623 | I1165: =SUM(D1165,G1165) -> 713 | K1165: 30 | M1165: =SUM(I1165,K1165) -> 743 | O1165: =SUM((D1165*E1165),(G1165*H1165),(I1165*J1165),(K1165*L1165),(M1165*N1165)) -> 0 | P1165: ７Ｉ０７
A1166: 豊 平 区 | B1166: ７Ｉ０８ | C1166: 月寒東１－１０･１１ | D1166: 50 | F1166: 21 | G1166: 350 | I1166: =SUM(D1166,G1166) -> 400 | K1166: 0 | M1166: =SUM(I1166,K1166) -> 400 | O1166: =SUM((D1166*E1166),(G1166*H1166),(I1166*J1166),(K1166*L1166),(M1166*N1166)) -> 0 | P1166: ７Ｉ０８
A1167: 豊 平 区 | B1167: ７Ｉ０９ | C1167: 月寒東２－３ | D1167: 67 | F1167: 36 | G1167: 338 | I1167: =SUM(D1167,G1167) -> 405 | K1167: 6 | M1167: =SUM(I1167,K1167) -> 411 | O1167: =SUM((D1167*E1167),(G1167*H1167),(I1167*J1167),(K1167*L1167),(M1167*N1167)) -> 0 | P1167: ７Ｉ０９
A1168: 豊 平 区 | B1168: ７Ｉ１０ | C1168: 月寒東２－５･６ | D1168: 179 | F1168: 59 | G1168: 509 | I1168: =SUM(D1168,G1168) -> 688 | K1168: 12 | M1168: =SUM(I1168,K1168) -> 700 | O1168: =SUM((D1168*E1168),(G1168*H1168),(I1168*J1168),(K1168*L1168),(M1168*N1168)) -> 0 | P1168: ７Ｉ１０
A1169: 豊 平 区 | B1169: ７Ｉ１１ | C1169: 月寒東２－７(1～3･8～11･16) | D1169: 42 | F1169: 26 | G1169: 213 | I1169: =SUM(D1169,G1169) -> 255 | K1169: 9 | M1169: =SUM(I1169,K1169) -> 264 | O1169: =SUM((D1169*E1169),(G1169*H1169),(I1169*J1169),(K1169*L1169),(M1169*N1169)) -> 0 | P1169: ７Ｉ１１
... A1745: 清 田 区 | B1745: ０Ｆ１０ | C1745: 平岡公園東１０【休業】 | D1745: 0 | F1745: 0 | G1745: 0 | I1745: =SUM(D1745,G1745) -> 0 | K1745: 0 | M1745: =SUM(I1745,K1745) -> 0 | O1745: =SUM((D1745*E1745),(G1745*H1745),(I1745*J1745),(K1745*L1745),(M1745*N1745)) -> 0 | P1745: ０Ｆ１０
A1746: 清 田 区 | B1746: ０Ｆ１１ | C1746: 平岡公園東１１【休業】 | D1746: 0 | F1746: 0 | G1746: 0 | I1746: 0 | K1746: 0 | M1746: =SUM(I1746,K1746) -> 0 | O1746: =SUM((D1746*E1746),(G1746*H1746),(I1746*J1746),(K1746*L1746),(M1746*N1746)) -> 0 | P1746: ０Ｆ１１
A1747: 特別エリア東区 | B1747: ＸＡ０１ | C1747: 北6・7条東1～3丁目 | I1747: 518 | K1747: 102 | M1747: =SUM(I1747,K1747) -> 620 | O1747: =SUM((D1747*E1747),(G1747*H1747),(I1747*J1747),(K1747*L1747),(M1747*N1747)) -> 0 | P1747: ＸＡ０１
A1748: 特別エリア東区 | B1748: ＸＡ０２ | C1748: 北5・6条東4・5丁目、北7条東4丁目 | I1748: 259 | K1748: 79 | M1748: =SUM(I1748,K1748) -> 338 | O1748: =SUM((D1748*E1748),(G1748*H1748),(I1748*J1748),(K1748*L1748),(M1748*N1748)) -> 0 | P1748: ＸＡ０２
A1749: 特別エリア東区 | B1749: ＸＡ０３ | C1749: 北5条東6～8丁目、北6条東8丁目 | I1749: 584 | K1749: 9 | M1749: =SUM(I1749,K1749) -> 593 | O1749: =SUM((D1749*E1749),(G1749*H1749),(I1749*J1749),(K1749*L1749),(M1749*N1749)) -> 0 | P1749: ＸＡ０３
A1750: 特別エリア東区 | B1750: ＸＡ０４ | C1750: 北4・5条東9・10丁目 | I1750: 236 | K1750: 3 | M1750: =SUM(I1750,K1750) -> 239 | O1750: =SUM((D1750*E1750),(G1750*H1750),(I1750*J1750),(K1750*L1750),(M1750*N1750)) -> 0 | P1750: ＸＡ０４
A1751: 特別エリア東区 | B1751: ＸＡ０５ | C1751: 北4～6条東11・12丁目 | I1751: 525 | K1751: 1 | M1751: =SUM(I1751,K1751) -> 526 | O1751: =SUM((D1751*E1751),(G1751*H1751),(I1751*J1751),(K1751*L1751),(M1751*N1751)) -> 0 | P1751: ＸＡ０５
A1752: 特別エリア東区 | B1752: ＸＡ０６ | C1752: 北8・9条東1・2丁目、北10条東1丁目 | I1752: 985 | K1752: 50 | M1752: =SUM(I1752,K1752) -> 1035 | O1752: =SUM((D1752*E1752),(G1752*H1752),(I1752*J1752),(K1752*L1752),(M1752*N1752)) -> 0 | P1752: ＸＡ０６
A1753: 特別エリア東区 | B1753: ＸＡ０７ | C1753: 北8条東3丁目、9条東3丁目 | I1753: 477 | K1753: 7 | M1753: =SUM(I1753,K1753) -> 484 | O1753: =SUM((D1753*E1753),(G1753*H1753),(I1753*J1753),(K1753*L1753),(M1753*N1753)) -> 0 | P1753: ＸＡ０７
A1754: 特別エリア東区 | B1754: ＸＡ０８ | C1754: 北7・8条東8～10丁目 | I1754: 535 | K1754: 35 | M1754: =SUM(I1754,K1754) -> 570 | O1754: =SUM((D1754*E1754),(G1754*H1754),(I1754*J1754),(K1754*L1754),(M1754*N1754)) -> 0 | P1754: ＸＡ０８
A1755: 特別エリア東区 | B1755: ＸＡ０９ | C1755: 北7条東11～17丁目 | I1755: 170 | K1755: 16 | M1755: =SUM(I1755,K1755) -> 186 | O1755: =SUM((D1755*E1755),(G1755*H1755),(I1755*J1755),(K1755*L1755),(M1755*N1755)) -> 0 | P1755: ＸＡ０９
A1756: 特別エリア北区 | B1756: ＹＡ０１ | C1756: 北6・7条西1・2丁目 | I1756: 0 | K1756: 222 | M1756: =SUM(I1756,K1756) -> 222 | O1756: =SUM((D1756*E1756),(G1756*H1756),(I1756*J1756),(K1756*L1756),(M1756*N1756)) -> 0 | P1756: ＹＡ０１
A1757: 特別エリア北区 | B1757: ＹＡ０２ | C1757: 北6・7条西3・4丁目 | I1757: 0 | K1757: 137 | M1757: =SUM(I1757,K1757) -> 137 | O1757: =SUM((D1757*E1757),(G1757*H1757),(I1757*J1757),(K1757*L1757),(M1757*N1757)) -> 0 | P1757: ＹＡ０２
A1758: 特別エリア北区 | B1758: ＹＡ０３ | C1758: 北6・7条西5・6丁目 | I1758: 110 | K1758: 260 | M1758: =SUM(I1758,K1758) -> 370 | O1758: =SUM((D1758*E1758),(G1758*H1758),(I1758*J1758),(K1758*L1758),(M1758*N1758)) -> 0 | P1758: ＹＡ０３
... A1774: 特別エリア北区 | B1774: ＹＢ０９ | C1774: 北18条西5～7 | I1774: 396 | K1774: 15 | M1774: =SUM(I1774,K1774) -> 411 | O1774: =SUM((D1774*E1774),(G1774*H1774),(I1774*J1774),(K1774*L1774),(M1774*N1774)) -> 0 | P1774: ＹＢ０９
A1775: 特別エリア中央区 | B1775: ＺＡ０１ | C1775: 大通西1・2丁目、北1条西1・2丁目 | K1775: 170 | M1775: 170 | O1775: =SUM((D1775*E1775),(G1775*H1775),(I1775*J1775),(K1775*L1775),(M1775*N1775)) -> 0 | P1775: ＺＡ０１
A1776: 特別エリア中央区 | B1776: ＺＡ０２ | C1776: 大通西3・4丁目、北1条西3・4丁目 | K1776: 400 | M1776: 400 | O1776: =SUM((D1776*E1776),(G1776*H1776),(I1776*J1776),(K1776*L1776),(M1776*N1776)) -> 0 | P1776: ＺＡ０２
A1777: 特別エリア中央区 | B1777: ＺＡ０３ | C1777: 大通西5・6丁目、北1条西5・6丁目 | K1777: 309 | M1777: 460 | O1777: =SUM((D1777*E1777),(G1777*H1777),(I1777*J1777),(K1777*L1777),(M1777*N1777)) -> 0 | P1777: ＺＡ０３
A1778: 特別エリア中央区 | B1778: ＺＡ０４ | C1778: 大通西7・8丁目、北1条西7・8丁目 | K1778: 351 | M1778: 388 | O1778: =SUM((D1778*E1778),(G1778*H1778),(I1778*J1778),(K1778*L1778),(M1778*N1778)) -> 0 | P1778: ＺＡ０４
A1779: 特別エリア中央区 | B1779: ＺＡ０５ | C1779: 大通西9・10丁目、北1条西9・10丁目 | K1779: 318 | M1779: 404 | O1779: =SUM((D1779*E1779),(G1779*H1779),(I1779*J1779),(K1779*L1779),(M1779*N1779)) -> 0 | P1779: ＺＡ０５
A1780: 特別エリア中央区 | B1780: ＺＡ０６ | C1780: 北2・3条西1・2丁目 | K1780: 408 | M1780: 408 | O1780: =SUM((D1780*E1780),(G1780*H1780),(I1780*J1780),(K1780*L1780),(M1780*N1780)) -> 0 | P1780: ＺＡ０６
A1781: 特別エリア中央区 | B1781: ＺＡ０７ | C1781: 北2・3条西3～5丁目 | K1781: 323 | M1781: 323 | O1781: =SUM((D1781*E1781),(G1781*H1781),(I1781*J1781),(K1781*L1781),(M1781*N1781)) -> 0 | P1781: ＺＡ０７
A1782: 特別エリア中央区 | B1782: ＺＡ０８ | C1782: 北2・3条西6～8丁目 | K1782: 156 | M1782: 265 | O1782: =SUM((D1782*E1782),(G1782*H1782),(I1782*J1782),(K1782*L1782),(M1782*N1782)) -> 0 | P1782: ＺＡ０８
A1783: 特別エリア中央区 | B1783: ＺＡ０９ | C1783: 北2条西9・10丁目 | K1783: 36 | M1783: 36 | O1783: =SUM((D1783*E1783),(G1783*H1783),(I1783*J1783),(K1783*L1783),(M1783*N1783)) -> 0 | P1783: ＺＡ０９
A1784: 特別エリア中央区 | B1784: ＺＡ１０ | C1784: 北4・5条西1・2丁目 | K1784: 104 | M1784: 104 | O1784: =SUM((D1784*E1784),(G1784*H1784),(I1784*J1784),(K1784*L1784),(M1784*N1784)) -> 0 | P1784: ＺＡ１０
A1785: 特別エリア中央区 | B1785: ＺＡ１１ | C1785: 北4・5条西3・4丁目 | K1785: 169 | M1785: 169 | O1785: =SUM((D1785*E1785),(G1785*H1785),(I1785*J1785),(K1785*L1785),(M1785*N1785)) -> 0 | P1785: ＺＡ１１
A1786: 特別エリア中央区 | B1786: ＺＡ１２ | C1786: 北4・5条西5・6丁目 | K1786: 192 | M1786: 192 | O1786: =SUM((D1786*E1786),(G1786*H1786),(I1786*J1786),(K1786*L1786),(M1786*N1786)) -> 0 | P1786: ＺＡ１２
... A1803: 特別エリア中央区 | B1803: ＺＢ１５ | C1803: 南5・6条西9・10丁目 | K1803: 33 | M1803: 744 | O1803: =SUM((D1803*E1803),(G1803*H1803),(I1803*J1803),(K1803*L1803),(M1803*N1803)) -> 0 | P1803: ＺＢ１５
A1804: 特別エリア中央区 | B1804: ＺＣ０１ | C1804: 南7・8条西1・2丁目 | I1804: 692 | K1804: 32 | M1804: =SUM(I1804,K1804) -> 724 | O1804: =SUM((D1804*E1804),(G1804*H1804),(I1804*J1804),(K1804*L1804),(M1804*N1804)) -> 0 | P1804: ＺＣ０１
A1805: 特別エリア中央区 | B1805: ＺＣ０２ | C1805: 南7・8条西3・4丁目 | I1805: 118 | K1805: 332 | M1805: =SUM(I1805,K1805) -> 450 | O1805: =SUM((D1805*E1805),(G1805*H1805),(I1805*J1805),(K1805*L1805),(M1805*N1805)) -> 0 | P1805: ＺＣ０２
A1806: 特別エリア中央区 | B1806: ＺＣ０３ | C1806: 南7・8条西5・6丁目 | I1806: 519 | K1806: 74 | M1806: =SUM(I1806,K1806) -> 593 | O1806: =SUM((D1806*E1806),(G1806*H1806),(I1806*J1806),(K1806*L1806),(M1806*N1806)) -> 0 | P1806: ＺＣ０３
A1807: 特別エリア中央区 | B1807: ＺＣ０４ | C1807: 南7・8条西7・8丁目 | I1807: 841 | K1807: 33 | M1807: =SUM(I1807,K1807) -> 874 | O1807: =SUM((D1807*E1807),(G1807*H1807),(I1807*J1807),(K1807*L1807),(M1807*N1807)) -> 0 | P1807: ＺＣ０４
A1808: 特別エリア中央区 | B1808: ＺＣ０５ | C1808: 南7・8条西9・10丁目 | I1808: 1561 | K1808: 45 | M1808: =SUM(I1808,K1808) -> 1606 | O1808: =SUM((D1808*E1808),(G1808*H1808),(I1808*J1808),(K1808*L1808),(M1808*N1808)) -> 0 | P1808: ＺＣ０５
A1809: 特別エリア中央区 | B1809: ＺＣ０６ | C1809: 南9条西1～4丁目 | I1809: 344 | K1809: 81 | M1809: =SUM(I1809,K1809) -> 425 | O1809: =SUM((D1809*E1809),(G1809*H1809),(I1809*J1809),(K1809*L1809),(M1809*N1809)) -> 0 | P1809: ＺＣ０６
A1810: 特別エリア中央区 | B1810: ＺＣ０７ | C1810: 南9条西5・6丁目、南10条西6丁目 | I1810: 619 | K1810: 59 | M1810: =SUM(I1810,K1810) -> 678 | O1810: =SUM((D1810*E1810),(G1810*H1810),(I1810*J1810),(K1810*L1810),(M1810*N1810)) -> 0 | P1810: ＺＣ０７
A1811: 特別エリア中央区 | B1811: ＺＣ０８ | C1811: 南9・10条西7・8丁目 | I1811: 1136 | K1811: 39 | M1811: =SUM(I1811,K1811) -> 1175 | O1811: =SUM((D1811*E1811),(G1811*H1811),(I1811*J1811),(K1811*L1811),(M1811*N1811)) -> 0 | P1811: ＺＣ０８
A1812: 特別エリア中央区 | B1812: ＺＣ０９ | C1812: 南9・10条西9・10丁目 | I1812: 868 | K1812: 66 | M1812: =SUM(I1812,K1812) -> 934 | O1812: =SUM((D1812*E1812),(G1812*H1812),(I1812*J1812),(K1812*L1812),(M1812*N1812)) -> 0 | P1812: ＺＣ０９
A1813: 特別エリア中央区 | B1813: ＺＣ１０ | C1813: 南9・10条西11・12丁目 | I1813: 1004 | K1813: 54 | M1813: =SUM(I1813,K1813) -> 1058 | O1813: =SUM((D1813*E1813),(G1813*H1813),(I1813*J1813),(K1813*L1813),(M1813*N1813)) -> 0 | P1813: ＺＣ１０
A1814: 特別エリア中央区 | B1814: ＺＣ１１ | C1814: 南9・10条西13・14丁目、南11条西13丁目 | I1814: 1217 | K1814: 59 | M1814: =SUM(I1814,K1814) -> 1276 | O1814: =SUM((D1814*E1814),(G1814*H1814),(I1814*J1814),(K1814*L1814),(M1814*N1814)) -> 0 | P1814: ＺＣ１１
A1815: 特別エリア中央区 | B1815: ＺＣ１２ | C1815: 南10～12条西1丁目 | I1815: 495 | K1815: 20 | M1815: =SUM(I1815,K1815) -> 515 | O1815: =SUM((D1815*E1815),(G1815*H1815),(I1815*J1815),(K1815*L1815),(M1815*N1815)) -> 0 | P1815: ＺＣ１２
... A1861: 特別エリア中央区 | B1861: ＺＧ０５ | C1861: 北20～22条西15丁目 | I1861: 388 | K1861: 5 | M1861: =SUM(I1861,K1861) -> 393 | O1861: =SUM((D1861*E1861),(G1861*H1861),(I1861*J1861),(K1861*L1861),(M1861*N1861)) -> 0 | P1861: ＺＧ０５
D1862: =SUM(D9:D1861) -> 119941 | F1862: =SUM(F9:F1861) -> 30926 | G1862: =SUM(G9:G1861) -> 356184 | I1862: =SUM(I9:I1861) -> 518603 | K1862: =SUM(K9:K1861) -> 26913 | M1862: =SUM(M9:M1861) -> 549739 | O1862: =SUM(O9:O1861) -> 0
C1864: 選択範囲合計 | D1864: =SUBTOTAL(9,D9:D1861) -> 119941 | F1864: =SUBTOTAL(9,F9:F1861) -> 30926 | G1864: =SUBTOTAL(9,G9:G1861) -> 356184 | I1864: =SUBTOTAL(9,I9:I1861) -> 518603 | K1864: =SUBTOTAL(9,K9:K1861) -> 26913 | M1864: =SUBTOTAL(9,M9:M1861) -> 549739 | O1864: =SUBTOTAL(9,O9:O1861) -> 0
D2004: =D7 -> 戸建のみ | F2004: =F7 -> 集合のみ | I2004: =I7 -> 戸建＋集合 | K2004: =K7 -> 事業所のみ | M2004: =M7 -> 全戸配布
C2005: 東区 | D2005: =SUM(D9:D244) -> 13670 | F2005: =SUM(F9:F244) -> 5027 | G2005: =SUM(G9:G244) -> 49670 | I2005: =SUM(I9:I244) -> 63340 | K2005: =SUM(K9:K244) -> 2649 | M2005: =SUM(M9:M244) -> 65989
C2006: 北区 | D2006: =SUM(D246:D460) -> 19513 | F2006: =SUM(F246:F460) -> 4149 | G2006: =SUM(G246:G460) -> 35901 | I2006: =SUM(I246:I460) -> 55414 | K2006: =SUM(K246:K460) -> 1603 | M2006: =SUM(M246:M460) -> 57017
C2007: 西区 | D2007: =SUM(D461:D643) -> 15686 | F2007: =SUM(F461:F643) -> 3886 | G2007: =SUM(G461:G643) -> 43067 | I2007: =SUM(I461:I643) -> 58753 | K2007: =SUM(K461:K643) -> 1253 | M2007: =SUM(M461:M643) -> 60006
C2008: 手稲区 | D2008: =SUM(D644:D768) -> 7969 | F2008: =SUM(F644:F768) -> 935 | G2008: =SUM(G644:G768) -> 12520 | I2008: =SUM(I644:I768) -> 20489 | K2008: =SUM(K644:K768) -> 150 | M2008: =SUM(M644:M768) -> 20639
C2009: 中央区 | D2009: =SUM(D769:D874) -> 9096 | F2009: =SUM(F769:F874) -> 3096 | G2009: =SUM(G769:G874) -> 47715 | I2009: =SUM(I769:I874) -> 56811 | K2009: =SUM(K769:K874) -> 2760 | M2009: =SUM(M769:M874) -> 59571
C2010: 南区 | D2010: =SUM(D875:D943) -> 3154 | F2010: =SUM(F875:F943) -> 747 | G2010: =SUM(G875:G943) -> 12034 | I2010: =SUM(I875:I943) -> 15188 | K2010: =SUM(K875:K943) -> 223 | M2010: =SUM(M875:M943) -> 15411
C2011: 豊平区 | D2011: =SUM(D944:D1222) -> 16567 | F2011: =SUM(F944:F1222) -> 5320 | G2011: =SUM(G944:G1222) -> 63516 | I2011: =SUM(I944:I1222) -> 80083 | K2011: =SUM(K944:K1222) -> 1874 | M2011: =SUM(M944:M1222) -> 81957
C2012: 白石区 | D2012: =SUM(D1223:D1443) -> 15567 | F2012: =SUM(F1223:F1443) -> 5496 | G2012: =SUM(G1223:G1443) -> 59291 | I2012: =SUM(I1223:I1443) -> 74858 | K2012: =SUM(K1223:K1443) -> 2320 | M2012: =SUM(M1223:M1443) -> 77178
...

Sheet 一覧表
B1: 配布可能部数表 | D1: ='お申込み書 '!A4 -> ＜ 配布可能部数表 令和8年8月〜 11月 ＞ | E1: ='お申込み書 '!E1997 -> 0 | F1: ='お申込み書 '!F1997 -> 0 | G1: ='お申込み書 '!G1997 -> 0 | H1: ='お申込み書 '!H1997 -> 0
A7: 区 No. | C7: 区 名 | D7: 戸建のみ | E7: 集合住宅のみ | G7: 戸建と集合 | H7: 事業所のみ | I7: 全 戸 | L7: 区 No. | N7: 区 名 | O7: 戸建てのみ | P7: 集合住宅のみ | Q7: 戸 数 | R7: 戸建と集合 | S7: 事業所のみ | T7: 全 戸
E8: 棟 数 | F8: 戸 数
A9: 1 | C9: 東 区 ※ | D9: ='お申込み書 '!D2005 -> 13670 | E9: ='お申込み書 '!F2005 -> 5027 | F9: ='お申込み書 '!G2005 -> 49670 | G9: ='お申込み書 '!I2005 -> 63340 | H9: ='お申込み書 '!K2005 -> 2649 | I9: ='お申込み書 '!M2005 -> 65989 | L9: 1 | N9: 東 区 ※ | O9: =D9 -> 13670 | P9: =E9 -> 5027 | Q9: =F9 -> 49670 | R9: =G9 -> 63340 | S9: =H9 -> 2649 | T9: =I9 -> 65989
A10: 2 | C10: 北 区 ※ | D10: ='お申込み書 '!D2006 -> 19513 | E10: ='お申込み書 '!F2006 -> 4149 | F10: ='お申込み書 '!G2006 -> 35901 | G10: ='お申込み書 '!I2006 -> 55414 | H10: ='お申込み書 '!K2006 -> 1603 | I10: ='お申込み書 '!M2006 -> 57017 | L10: 2 | N10: 北 区 ※ | O10: =D10 -> 19513 | P10: =E10 -> 4149 | Q10: =F10 -> 35901 | R10: =G10 -> 55414 | S10: =H10 -> 1603 | T10: =I10 -> 57017
A11: 3 | C11: 西 区 | D11: ='お申込み書 '!D2007 -> 15686 | E11: ='お申込み書 '!F2007 -> 3886 | F11: ='お申込み書 '!G2007 -> 43067 | G11: ='お申込み書 '!I2007 -> 58753 | H11: ='お申込み書 '!K2007 -> 1253 | I11: ='お申込み書 '!M2007 -> 60006 | L11: 3 | N11: 西 区 | O11: =D11 -> 15686 | P11: =E11 -> 3886 | Q11: =F11 -> 43067 | R11: =G11 -> 58753 | S11: =H11 -> 1253 | T11: =I11 -> 60006
A12: 4 | C12: 手 稲 区 | D12: ='お申込み書 '!D2008 -> 7969 | E12: ='お申込み書 '!F2008 -> 935 | F12: ='お申込み書 '!G2008 -> 12520 | G12: ='お申込み書 '!I2008 -> 20489 | H12: ='お申込み書 '!K2008 -> 150 | I12: ='お申込み書 '!M2008 -> 20639 | L12: 4 | N12: 手 稲 区 | O12: =D12 -> 7969 | P12: =E12 -> 935 | Q12: =F12 -> 12520 | R12: =G12 -> 20489 | S12: =H12 -> 150 | T12: =I12 -> 20639
A13: 5 | C13: 中 央 区 ※ | D13: ='お申込み書 '!D2009 -> 9096 | E13: ='お申込み書 '!F2009 -> 3096 | F13: ='お申込み書 '!G2009 -> 47715 | G13: ='お申込み書 '!I2009 -> 56811 | H13: ='お申込み書 '!K2009 -> 2760 | I13: ='お申込み書 '!M2009 -> 59571 | L13: 5 | N13: 中 央 区 ※ | O13: =D13 -> 9096 | P13: =E13 -> 3096 | Q13: =F13 -> 47715 | R13: =G13 -> 56811 | S13: =H13 -> 2760 | T13: =I13 -> 59571
A14: 6 | C14: 南 区 | D14: ='お申込み書 '!D2010 -> 3154 | E14: ='お申込み書 '!F2010 -> 747 | F14: ='お申込み書 '!G2010 -> 12034 | G14: ='お申込み書 '!I2010 -> 15188 | H14: ='お申込み書 '!K2010 -> 223 | I14: ='お申込み書 '!M2010 -> 15411 | L14: 6 | N14: 南 区 | O14: =D14 -> 3154 | P14: =E14 -> 747 | Q14: =F14 -> 12034 | R14: =G14 -> 15188 | S14: =H14 -> 223 | T14: =I14 -> 15411
A15: 7 | C15: 豊 平 区 | D15: ='お申込み書 '!D2011 -> 16567 | E15: ='お申込み書 '!F2011 -> 5320 | F15: ='お申込み書 '!G2011 -> 63516 | G15: ='お申込み書 '!I2011 -> 80083 | H15: ='お申込み書 '!K2011 -> 1874 | I15: ='お申込み書 '!M2011 -> 81957 | L15: 7 | N15: 豊 平 区 | O15: =D15 -> 16567 | P15: =E15 -> 5320 | Q15: =F15 -> 63516 | R15: =G15 -> 80083 | S15: =H15 -> 1874 | T15: =I15 -> 81957
A16: 8 | C16: 白 石 区 | D16: ='お申込み書 '!D2012 -> 15567 | E16: ='お申込み書 '!F2012 -> 5496 | F16: ='お申込み書 '!G2012 -> 59291 | G16: ='お申込み書 '!I2012 -> 74858 | H16: ='お申込み書 '!K2012 -> 2320 | I16: ='お申込み書 '!M2012 -> 77178 | L16: 8 | N16: 白 石 区 | O16: =D16 -> 15567 | P16: =E16 -> 5496 | Q16: =F16 -> 59291 | R16: =G16 -> 74858 | S16: =H16 -> 2320 | T16: =I16 -> 77178
A17: 9 | C17: 厚 別 区 | D17: ='お申込み書 '!D2013 -> 6596 | E17: ='お申込み書 '!F2013 -> 1379 | F17: ='お申込み書 '!G2013 -> 24909 | G17: ='お申込み書 '!I2013 -> 31505 | H17: ='お申込み書 '!K2013 -> 439 | I17: ='お申込み書 '!M2013 -> 31944 | L17: 9 | N17: 厚 別 区 | O17: =D17 -> 6596 | P17: =E17 -> 1379 | Q17: =F17 -> 24909 | R17: =G17 -> 31505 | S17: =H17 -> 439 | T17: =I17 -> 31944
A18: 0 | C18: 清 田 区 | D18: ='お申込み書 '!D2014 -> 12123 | E18: ='お申込み書 '!F2014 -> 891 | F18: ='お申込み書 '!G2014 -> 7561 | G18: ='お申込み書 '!I2014 -> 19684 | H18: ='お申込み書 '!K2014 -> 444 | I18: ='お申込み書 '!M2014 -> 20128 | L18: 0 | N18: 清 田 区 | O18: =D18 -> 12123 | P18: =E18 -> 891 | Q18: =F18 -> 7561 | R18: =G18 -> 19684 | S18: =H18 -> 444 | T18: =I18 -> 20128
A19: 通常エリア 小計 | D19: =SUM(D9:D18) -> 119941 | E19: =SUM(E9:E18) -> 30926 | F19: =SUM(F9:F18) -> 356184 | G19: =SUM(G9:G18) -> 476125 | H19: =SUM(H9:H18) -> 13715 | I19: =SUM(I9:I18) -> 489840 | L19: 通常エリア 小計 | O19: =SUM(O9:O18) -> 119941 | P19: =SUM(P9:P18) -> 30926 | Q19: =SUM(Q9:Q18) -> 356184 | R19: =SUM(R9:R18) -> 476125 | S19: =SUM(S9:S18) -> 13715 | T19: =SUM(T9:T18) -> 489840
A22: ※東区・北区・中央区の一部地域（札幌市中心部）は､[特別エリア]扱いとなります。 | N22: ※
A23: X | C23: 特別エリア東区 | G23: ='お申込み書 '!I2019 -> 4289 | H23: ='お申込み書 '!K2019 -> 302 | I23: ='お申込み書 '!M2019 -> 4591 | L23: =I9+I23 -> 70580 | N23: 東区合計
A24: Y | C24: 特別エリア北区 | G24: ='お申込み書 '!I2020 -> 7683 | H24: ='お申込み書 '!K2020 -> 1387 | I24: ='お申込み書 '!M2020 -> 9070 | L24: =I10+I24 -> 66087 | N24: 北区合計
A25: Z | C25: 特別エリア中央区 | F25: 12625 | G25: ='お申込み書 '!I2021 -> 30506 | H25: ='お申込み書 '!K2021 -> 11509 | I25: ='お申込み書 '!M2021 -> 46238 | L25: =I13+I25 -> 105809 | N25: 中央区合計
A26: 特別エリア 小計 | G26: =SUM(G23:G25) -> 42478 | H26: =SUM(H23:H25) -> 13198 | I26: =SUM(I23:I25) -> 59899
G28: ＝
A30: 札 幌 市 合 計 | G30: =SUM(G19,G26) -> 518603 | H30: =SUM(H19,H26) -> 26913 | I30: =SUM(I19,I26) -> 549739
